BEGIN:VCALENDAR
VERSION:2.0
PRODID:-//wp-events-plugin.com//5.99912//EN
TZID:Europe/Berlin
X-WR-TIMEZONE:Europe/Berlin
BEGIN:VEVENT
UID:0-482@allmendingen.albverein.eu
DTSTART;TZID=Europe/Berlin;VALUE=DATE:20260626
DTEND;TZID=Europe/Berlin;VALUE=DATE:20260629
DTSTAMP:20260421T061141Z
URL:https://allmendingen.albverein.eu/events/duerrwangen-frommern/
SUMMARY:Wanderwochenende in Dürrwangen-Frommern
DESCRIPTION:Anmeldung bei Franz Bolz Tel. 07391 51646 oder im SAV Heim.\nDi
 e Personenzahl ist auf 16 Personen begrenzt.\nEs sind 8 Doppelzimmer reser
 viert mit Halbpension.\nAbfahrt am Freitagvormittag.\n\nProgramm für Dür
 rwangen\n26.06.2026-28.06.2026\n\nFreitag\n9.00 Uhr Abfahrt nach Albstadt 
 zum Nägelehaus mit Wanderung auf naturbelassenen Wegen über Hangender St
 ein zum Zeller Horn\, mit Blick auf Burg Hohenzollern. Einkehr im Nägeleh
 aus ist geplant. Weiterfahrt nach Dürrwangen zum Einchecken im Haus der V
 olkskunst. Anschließend in der originellen Gaststube gemütliches Beisamm
 ensein mit Abendessen.\nSamstag\nNach dem Frühstück starten wir zu unser
 er Tagestour\n(Hirschguldenweg). Rucksackvesper mitnehmen. Wir bilden zwei
  Gruppen\, eine lange und eine kurze Tour. Lange Tour ca. 9\,5 Km. 570 Hm.
  Kurze Tour ca. 5.0 Km geringe Hm. Danach Abendessen im Haus der Volkskuns
 t mit\, Schwätza\, Lacha\, Gaudi macha.\nSonntag\nNach dem Frühstück ev
 . Hausbesichtigung\, dann Fahrt zum Brunnental  bei Laufen mit kleiner Wa
 nderung ca. 5.0 Km.und Einkehr in der Traufganghütte. Nach unserer Stärk
 ung Rückfahrt nach Allmendingen.\nDie Gutscheine vom Mitgliedsausweis nic
 ht vergessen.\n\nDie Organisatoren wünschen allen Teilnehmern ein sonnige
 s und erlebnisreiches Wochenende\n\nWeitere Info bei: Renate Schuba Tel.07
 391 51372\nFranz Bolz         Tel.07391 51646\n\nÜbernachtungspreise
  pro Person \, pro Nacht.\n\nDoppelzimmer: 34.00€\nEinzelzimmer:   44.
 00€\n\nFrühstück: 15.00€\nEssen:       15.00€\n\nEs sind noch 
 einige wenige Plätze frei !!!!!\nAlso anmelden\n\n&nbsp\;
END:VEVENT
BEGIN:VTIMEZONE
TZID:Europe/Berlin
X-LIC-LOCATION:Europe/Berlin
BEGIN:DAYLIGHT
DTSTART:20260329T030000
TZOFFSETFROM:+0100
TZOFFSETTO:+0200
TZNAME:CEST
END:DAYLIGHT
END:VTIMEZONE
END:VCALENDAR