BEGIN:VCALENDAR
VERSION:2.0
PRODID:-//wp-events-plugin.com//5.99912//EN
TZID:Europe/Berlin
X-WR-TIMEZONE:Europe/Berlin
BEGIN:VEVENT
UID:0-485@allmendingen.albverein.eu
DTSTART;TZID=Europe/Berlin;VALUE=DATE:20260607
DTEND;TZID=Europe/Berlin;VALUE=DATE:20260608
DTSTAMP:20260404T231045Z
URL:https://allmendingen.albverein.eu/events/lauchertsee-hausemer-runde/
SUMMARY:Lauchertsee - Hausemer Runde
DESCRIPTION:nähere Informationen folgen noch\n\nWF: Renate Schuba
END:VEVENT
BEGIN:VTIMEZONE
TZID:Europe/Berlin
X-LIC-LOCATION:Europe/Berlin
BEGIN:DAYLIGHT
DTSTART:20260329T030000
TZOFFSETFROM:+0100
TZOFFSETTO:+0200
TZNAME:CEST
END:DAYLIGHT
END:VTIMEZONE
END:VCALENDAR